BEGIN:VCALENDAR
VERSION:2.0
PRODID:-//Westminster Ringers - ECPv6.15.20//NONSGML v1.0//EN
CALSCALE:GREGORIAN
METHOD:PUBLISH
X-WR-CALNAME:Westminster Ringers
X-ORIGINAL-URL:https://westminsterringers.org
X-WR-CALDESC:Events for Westminster Ringers
REFRESH-INTERVAL;VALUE=DURATION:PT1H
X-Robots-Tag:noindex
X-PUBLISHED-TTL:PT1H
BEGIN:VTIMEZONE
TZID:America/Toronto
BEGIN:DAYLIGHT
TZOFFSETFROM:-0500
TZOFFSETTO:-0400
TZNAME:EDT
DTSTART:20220313T070000
END:DAYLIGHT
BEGIN:STANDARD
TZOFFSETFROM:-0400
TZOFFSETTO:-0500
TZNAME:EST
DTSTART:20221106T060000
END:STANDARD
BEGIN:DAYLIGHT
TZOFFSETFROM:-0500
TZOFFSETTO:-0400
TZNAME:EDT
DTSTART:20230312T070000
END:DAYLIGHT
BEGIN:STANDARD
TZOFFSETFROM:-0400
TZOFFSETTO:-0500
TZNAME:EST
DTSTART:20231105T060000
END:STANDARD
BEGIN:DAYLIGHT
TZOFFSETFROM:-0500
TZOFFSETTO:-0400
TZNAME:EDT
DTSTART:20240310T070000
END:DAYLIGHT
BEGIN:STANDARD
TZOFFSETFROM:-0400
TZOFFSETTO:-0500
TZNAME:EST
DTSTART:20241103T060000
END:STANDARD
END:VTIMEZONE
BEGIN:VTIMEZONE
TZID:America/New_York
BEGIN:DAYLIGHT
TZOFFSETFROM:-0500
TZOFFSETTO:-0400
TZNAME:EDT
DTSTART:20220313T070000
END:DAYLIGHT
BEGIN:STANDARD
TZOFFSETFROM:-0400
TZOFFSETTO:-0500
TZNAME:EST
DTSTART:20221106T060000
END:STANDARD
BEGIN:DAYLIGHT
TZOFFSETFROM:-0500
TZOFFSETTO:-0400
TZNAME:EDT
DTSTART:20230312T070000
END:DAYLIGHT
BEGIN:STANDARD
TZOFFSETFROM:-0400
TZOFFSETTO:-0500
TZNAME:EST
DTSTART:20231105T060000
END:STANDARD
BEGIN:DAYLIGHT
TZOFFSETFROM:-0500
TZOFFSETTO:-0400
TZNAME:EDT
DTSTART:20240310T070000
END:DAYLIGHT
BEGIN:STANDARD
TZOFFSETFROM:-0400
TZOFFSETTO:-0500
TZNAME:EST
DTSTART:20241103T060000
END:STANDARD
END:VTIMEZONE
BEGIN:VEVENT
DTSTART;TZID=America/Toronto:20231202T150000
DTEND;TZID=America/Toronto:20231202T160000
DTSTAMP:20260422T051641
CREATED:20230622T180826Z
LAST-MODIFIED:20230622T180826Z
UID:1311-1701529200-1701532800@westminsterringers.org
SUMMARY:Westminster Ringers Concert
DESCRIPTION:
URL:https://westminsterringers.org/eventcalendar/westminster-ringers-concert-7/
LOCATION:Grace UMC (Gaithersburg)\, 119 N Frederick Ave\, Gaithersburg\, MD\, 20877\, United States
CATEGORIES:Concerts
END:VEVENT
BEGIN:VEVENT
DTSTART;TZID=America/New_York:20231203T160000
DTEND;TZID=America/New_York:20231203T170000
DTSTAMP:20260422T051641
CREATED:20230611T213902Z
LAST-MODIFIED:20230612T122433Z
UID:1259-1701619200-1701622800@westminsterringers.org
SUMMARY:Westminster Ringers Concert
DESCRIPTION:
URL:https://westminsterringers.org/eventcalendar/westminster-ringers-concert-14/
LOCATION:Grace UMC (Hagerstown)\, 712 W. Church St.\, Hagerstown\, MD\, 21740\, United States
CATEGORIES:Concerts
ORGANIZER;CN="Grace UMC (Hagerstown)":MAILTO:jleonard.graceumc@outlook.com
END:VEVENT
BEGIN:VEVENT
DTSTART;TZID=America/New_York:20231204T183000
DTEND;TZID=America/New_York:20231204T193000
DTSTAMP:20260422T051641
CREATED:20230611T214515Z
LAST-MODIFIED:20231129T160911Z
UID:1266-1701714600-1701718200@westminsterringers.org
SUMMARY:Accelerando Concert
DESCRIPTION:
URL:https://westminsterringers.org/eventcalendar/accelerando-concert-3/
LOCATION:Village Crossing at Wormans Mill\, 2480 Waterside Dr.\, Frederick\, 21701\, United States
CATEGORIES:Concerts
END:VEVENT
BEGIN:VEVENT
DTSTART;TZID=America/New_York:20231207T190000
DTEND;TZID=America/New_York:20231207T200000
DTSTAMP:20260422T051641
CREATED:20230611T214714Z
LAST-MODIFIED:20230612T122433Z
UID:1273-1701975600-1701979200@westminsterringers.org
SUMMARY:Westminster Ringers Concert
DESCRIPTION:
URL:https://westminsterringers.org/eventcalendar/westminster-ringers-concert-15/
LOCATION:Carroll Lutheran Village\, 300 St Luke Cir\, Westminster\, MD\, 21157
CATEGORIES:Concerts
END:VEVENT
BEGIN:VEVENT
DTSTART;TZID=America/New_York:20231209T190000
DTEND;TZID=America/New_York:20231209T200000
DTSTAMP:20260422T051641
CREATED:20230611T215047Z
LAST-MODIFIED:20230612T122433Z
UID:1278-1702148400-1702152000@westminsterringers.org
SUMMARY:Westminster Ringers Concert
DESCRIPTION:
URL:https://westminsterringers.org/eventcalendar/westminster-ringers-concert-18/
LOCATION:Christ Church Parish\, 830 Romancoke Rd\, Stevensville\, MD\, 21666\, United States
CATEGORIES:Concerts
END:VEVENT
BEGIN:VEVENT
DTSTART;TZID=America/New_York:20231210T160000
DTEND;TZID=America/New_York:20231210T173000
DTSTAMP:20260422T051641
CREATED:20230611T222224Z
LAST-MODIFIED:20230612T122432Z
UID:1302-1702224000-1702229400@westminsterringers.org
SUMMARY:Accelerando & Westminster Ringers Concert
DESCRIPTION:
URL:https://westminsterringers.org/eventcalendar/accelerando-westminster-ringers-concert-2/
LOCATION:First Presbyterian Church of Westminster\, 65 Washington Rd\, Westminster\, MD\, 21157\, United States
CATEGORIES:Concerts
ORGANIZER;CN="Westminster Ringers%2C Inc":MAILTO:WRManagingDirector@gmail.com
END:VEVENT
BEGIN:VEVENT
DTSTART;TZID=America/Toronto:20231214T190000
DTEND;TZID=America/Toronto:20231214T200000
DTSTAMP:20260422T051641
CREATED:20231029T154847Z
LAST-MODIFIED:20231029T154847Z
UID:1392-1702580400-1702584000@westminsterringers.org
SUMMARY:Westminster Ringers' Concert
DESCRIPTION:
URL:https://westminsterringers.org/eventcalendar/westminster-ringers-concert-24/
LOCATION:Homewood at Plum Creek\, 425 Westminster Ave.\, Hanover\, PA\, 17331\, United States
CATEGORIES:Concerts
END:VEVENT
BEGIN:VEVENT
DTSTART;TZID=America/New_York:20231216T150000
DTEND;TZID=America/New_York:20231216T160000
DTSTAMP:20260422T051641
CREATED:20230611T215248Z
LAST-MODIFIED:20230612T122432Z
UID:1281-1702738800-1702742400@westminsterringers.org
SUMMARY:Westminster Ringers Concert
DESCRIPTION:
URL:https://westminsterringers.org/eventcalendar/westminster-ringers-concert-19/
LOCATION:Masonic Village\, 1 Masonic Dr.\, Elizabethtown\, PA\, 17022\, United States
CATEGORIES:Concerts
END:VEVENT
END:VCALENDAR