BEGIN:VCALENDAR
VERSION:2.0
PRODID:-//Westminster Ringers - ECPv6.15.20//NONSGML v1.0//EN
CALSCALE:GREGORIAN
METHOD:PUBLISH
X-ORIGINAL-URL:https://westminsterringers.org
X-WR-CALDESC:Events for Westminster Ringers
REFRESH-INTERVAL;VALUE=DURATION:PT1H
X-Robots-Tag:noindex
X-PUBLISHED-TTL:PT1H
BEGIN:VTIMEZONE
TZID:America/Toronto
BEGIN:DAYLIGHT
TZOFFSETFROM:-0500
TZOFFSETTO:-0400
TZNAME:EDT
DTSTART:20210314T070000
END:DAYLIGHT
BEGIN:STANDARD
TZOFFSETFROM:-0400
TZOFFSETTO:-0500
TZNAME:EST
DTSTART:20211107T060000
END:STANDARD
BEGIN:DAYLIGHT
TZOFFSETFROM:-0500
TZOFFSETTO:-0400
TZNAME:EDT
DTSTART:20220313T070000
END:DAYLIGHT
BEGIN:STANDARD
TZOFFSETFROM:-0400
TZOFFSETTO:-0500
TZNAME:EST
DTSTART:20221106T060000
END:STANDARD
BEGIN:DAYLIGHT
TZOFFSETFROM:-0500
TZOFFSETTO:-0400
TZNAME:EDT
DTSTART:20230312T070000
END:DAYLIGHT
BEGIN:STANDARD
TZOFFSETFROM:-0400
TZOFFSETTO:-0500
TZNAME:EST
DTSTART:20231105T060000
END:STANDARD
END:VTIMEZONE
BEGIN:VEVENT
DTSTART;TZID=America/Toronto:20220501T190000
DTEND;TZID=America/Toronto:20220501T200000
DTSTAMP:20260421T074628
CREATED:20211116T193051Z
LAST-MODIFIED:20220429T105721Z
UID:1029-1651431600-1651435200@westminsterringers.org
SUMMARY:Westminster Ringers Concert - postponed
DESCRIPTION:
URL:https://westminsterringers.org/eventcalendar/westminster-ringers-concert/
LOCATION:Grace UMC (Gaithersburg)\, 119 N Frederick Ave\, Gaithersburg\, MD\, 20877\, United States
CATEGORIES:Concerts
END:VEVENT
BEGIN:VEVENT
DTSTART;TZID=America/Toronto:20220521T150000
DTEND;TZID=America/Toronto:20220521T160000
DTSTAMP:20260421T074628
CREATED:20211116T193054Z
LAST-MODIFIED:20220207T202103Z
UID:1030-1653145200-1653148800@westminsterringers.org
SUMMARY:Westminster Ringers Concert
DESCRIPTION:
URL:https://westminsterringers.org/eventcalendar/westminster-ringers-concert-2/
LOCATION:Cross Keys Village – The Brethren Home Community\, 2990 Carlisle Pike\, New Oxford\, PA\, 17350
CATEGORIES:Concerts
END:VEVENT
BEGIN:VEVENT
DTSTART;TZID=America/Toronto:20220521T190000
DTEND;TZID=America/Toronto:20220521T200000
DTSTAMP:20260421T074628
CREATED:20211116T193058Z
LAST-MODIFIED:20220207T202034Z
UID:1031-1653159600-1653163200@westminsterringers.org
SUMMARY:Westminster Ringers Concert
DESCRIPTION:
URL:https://westminsterringers.org/eventcalendar/westminster-ringers-concert-3/
LOCATION:Cross Keys Village – The Brethren Home Community\, 2990 Carlisle Pike\, New Oxford\, PA\, 17350
CATEGORIES:Concerts
END:VEVENT
BEGIN:VEVENT
DTSTART;TZID=America/Toronto:20220522T160000
DTEND;TZID=America/Toronto:20220522T173000
DTSTAMP:20260421T074628
CREATED:20211116T193100Z
LAST-MODIFIED:20220328T163822Z
UID:1032-1653235200-1653240600@westminsterringers.org
SUMMARY:Spring Concert
DESCRIPTION:
URL:https://westminsterringers.org/eventcalendar/westminster-ringers-concert-4/
LOCATION:First Presbyterian Church of Westminster\, 65 Washington Rd\, Westminster\, MD\, 21157\, United States
CATEGORIES:Concerts
END:VEVENT
BEGIN:VEVENT
DTSTART;TZID=America/Toronto:20220523T190000
DTEND;TZID=America/Toronto:20220523T200000
DTSTAMP:20260421T074628
CREATED:20211116T193107Z
LAST-MODIFIED:20220207T201340Z
UID:1034-1653332400-1653336000@westminsterringers.org
SUMMARY:Accelerando Concert
DESCRIPTION:
URL:https://westminsterringers.org/eventcalendar/westminster-ringers-concert-6/
LOCATION:Homewood at Frederick\, 7407 Willow Rd.\, Frederick\, MD\, 21702\, United States
CATEGORIES:Concerts
END:VEVENT
BEGIN:VEVENT
DTSTART;TZID=America/Toronto:20220526T183000
DTEND;TZID=America/Toronto:20220526T193000
DTSTAMP:20260421T074628
CREATED:20211116T193103Z
LAST-MODIFIED:20220525T150212Z
UID:1033-1653589800-1653593400@westminsterringers.org
SUMMARY:Westminster Ringers Concert
DESCRIPTION:
URL:https://westminsterringers.org/eventcalendar/westminster-ringers-concert-5/
LOCATION:Carroll Lutheran Village\, 300 St Luke Cir\, Westminster\, MD\, 21157
CATEGORIES:Concerts
END:VEVENT
END:VCALENDAR