BEGIN:VCALENDAR
VERSION:2.0
PRODID:-//Westminster Ringers - ECPv6.15.20//NONSGML v1.0//EN
CALSCALE:GREGORIAN
METHOD:PUBLISH
X-ORIGINAL-URL:https://westminsterringers.org
X-WR-CALDESC:Events for Westminster Ringers
REFRESH-INTERVAL;VALUE=DURATION:PT1H
X-Robots-Tag:noindex
X-PUBLISHED-TTL:PT1H
BEGIN:VTIMEZONE
TZID:America/Toronto
BEGIN:DAYLIGHT
TZOFFSETFROM:-0500
TZOFFSETTO:-0400
TZNAME:EDT
DTSTART:20240310T070000
END:DAYLIGHT
BEGIN:STANDARD
TZOFFSETFROM:-0400
TZOFFSETTO:-0500
TZNAME:EST
DTSTART:20241103T060000
END:STANDARD
BEGIN:DAYLIGHT
TZOFFSETFROM:-0500
TZOFFSETTO:-0400
TZNAME:EDT
DTSTART:20250309T070000
END:DAYLIGHT
BEGIN:STANDARD
TZOFFSETFROM:-0400
TZOFFSETTO:-0500
TZNAME:EST
DTSTART:20251102T060000
END:STANDARD
BEGIN:DAYLIGHT
TZOFFSETFROM:-0500
TZOFFSETTO:-0400
TZNAME:EDT
DTSTART:20260308T070000
END:DAYLIGHT
BEGIN:STANDARD
TZOFFSETFROM:-0400
TZOFFSETTO:-0500
TZNAME:EST
DTSTART:20261101T060000
END:STANDARD
END:VTIMEZONE
BEGIN:VEVENT
DTSTART;TZID=America/Toronto:20251215T190000
DTEND;TZID=America/Toronto:20251215T200000
DTSTAMP:20260422T050228
CREATED:20250712T151552Z
LAST-MODIFIED:20250712T151552Z
UID:1579-1765825200-1765828800@westminsterringers.org
SUMMARY:Accelerando Concert
DESCRIPTION:
URL:https://westminsterringers.org/eventcalendar/accelerando-concert-7/
LOCATION:Homewood at Frederick\, 7407 Willow Rd.\, Frederick\, MD\, 21702\, United States
CATEGORIES:Concerts
END:VEVENT
END:VCALENDAR